BEGIN:VCALENDAR
VERSION:2.0
PRODID:icalendar-ruby
CALSCALE:GREGORIAN
METHOD:PUBLISH
BEGIN:VTIMEZONE
TZID:UTC
BEGIN:STANDARD
DTSTART:19700101T000000
TZOFFSETFROM:+0000
TZOFFSETTO:+0000
TZNAME:UTC
END:STANDARD
END:VTIMEZONE
BEGIN:VEVENT
DTSTAMP:20260420T165255Z
UID:djb-competition-25007
DTSTART:20260401T000000Z
DTEND:20260430T235959Z
CLASS:PUBLIC
CREATED:20260322T192351
DESCRIPTION:Spring is upon us! With the change of the seasons\, plant life 
 is once again blooming across the galaxy. To celebrate the return of life\
 , please depict an image of a landscape that your character may have seen 
 while traveling and decided to sketch before moving on. \n\nRules: Entries
  must be submitted in one of the following formats: jpg\, png\, or gif. Bo
 th Traditional (hand-drawn) and digital mediums allowed. Reminder: AI-gene
 rated entries are NOT allowed.\n\nGrading: All entries will be graded usin
 g the [DB Graphic Grading Rubric](https://docs.google.com/spreadsheets/d/1
 3dMTASwp1AOxiGAAEPdpsdPOCy-hkzCi_qq2vxKb9Gw/edit?gid=0#gid=0)
LAST-MODIFIED:20260411T020841
SUMMARY:Springtime Scenery (Graphics)
URL;VALUE=URI:https://www.darkjedibrotherhood.com/competitions/25007
END:VEVENT
END:VCALENDAR
