BEGIN:VCALENDAR
VERSION:2.0
PRODID:icalendar-ruby
CALSCALE:GREGORIAN
METHOD:PUBLISH
BEGIN:VTIMEZONE
TZID:UTC
BEGIN:STANDARD
DTSTART:19700101T000000
TZOFFSETFROM:+0000
TZOFFSETTO:+0000
TZNAME:UTC
END:STANDARD
END:VTIMEZONE
BEGIN:VEVENT
DTSTAMP:20260420T164400Z
UID:djb-competition-25071
DTSTART:20260404T000000Z
DTEND:20260430T235959Z
CLASS:PUBLIC
CREATED:20260401T033808
DESCRIPTION:Time to show off your commando skills in Helldivers 2! For this
  competition you'll be competing with your fellow DJB operatives to achiev
 e the highest score in Helldivers 2 using the following system:\n\nEvery 5
 0 Kills Nets 1 Point\nEach death after your first is -1 point (You get 1 f
 ree death)\n\nSubmit the screenshot with the highest kills and least amoun
 t of deaths. The highest point score will win!
LAST-MODIFIED:20260411T020841
SUMMARY:Helldivers 2: April Battle Report (Skill Based Gaming)
URL;VALUE=URI:https://www.darkjedibrotherhood.com/competitions/25071
END:VEVENT
END:VCALENDAR
