BEGIN:VCALENDAR
VERSION:2.0
PRODID:icalendar-ruby
CALSCALE:GREGORIAN
METHOD:PUBLISH
BEGIN:VTIMEZONE
TZID:UTC
BEGIN:STANDARD
DTSTART:19700101T000000
TZOFFSETFROM:+0000
TZOFFSETTO:+0000
TZNAME:UTC
END:STANDARD
END:VTIMEZONE
BEGIN:VEVENT
DTSTAMP:20260420T135912Z
UID:djb-competition-25104
DTSTART:20260415T000000Z
DTEND:20260515T235959Z
CLASS:PUBLIC
CREATED:20260407T001014
DESCRIPTION:#### Context\n\nIn an attempt to bring back some mobile gaming 
 to our corner of the internet\, I’ve found this game: Mushroom Wars 2\n\
 nA real-time strategy game\, released on iOS\, Android and Microsoft Windo
 ws via Steam. The game is set in a fictional woodland world\, where armies
  of mushrooms face off in dynamic real-time strategy battles. The player p
 icks one of the heroes\, characters with unique abilities\, to lead the mu
 shroom armies and commands them to take control of the battlefield in a va
 riety of multiplayer modes with leagues\, ranked matches and award system 
 or single-player campaigns with customizable difficulty settings.\n\nYou c
 an check the game out here:\n\n* [iOS/Apple](https://apps.apple.com/us/app
 /mushroom-wars-2-rts-strategy/id1141358828)\n* [Android/Google Store](http
 s://play.google.com/store/apps/details?id=com.zillionwhales.mushroomwars2&
 hl=en_CA&pli=1)\n\n**Note: While the game is free to play\, there is monet
 ization within the app. Sub-competitions will focus on avoiding pay-to-win
  where possible.**\n\n#### Objective\n\nThis container will run several co
 mpetitions. Winners of the sub-competitions will be assigned points\, per 
 the details below\, and overall most points will win the container. \n\n##
 ## Sub-competition Scoring\n\n* 1st Place: 5pts\n* 2nd Place: 3pts\n* 3rd 
 Place: 2pts\n* Participation: 1pt \n\nTies to be broken by number of 1st p
 lace finishes in sub-competitions\, then 2nd place finishes\, etc. 
LAST-MODIFIED:20260414T015254
SUMMARY:[Mobile Gaming] Mushroom Wars 2
URL;VALUE=URI:https://www.darkjedibrotherhood.com/competitions/25104
END:VEVENT
END:VCALENDAR
