BEGIN:VCALENDAR
VERSION:2.0
PRODID:icalendar-ruby
CALSCALE:GREGORIAN
METHOD:PUBLISH
BEGIN:VTIMEZONE
TZID:UTC
BEGIN:STANDARD
DTSTART:19700101T000000
TZOFFSETFROM:+0000
TZOFFSETTO:+0000
TZNAME:UTC
END:STANDARD
END:VTIMEZONE
BEGIN:VEVENT
DTSTAMP:20260421T014218Z
UID:djb-competition-25114
DTSTART:20260412T000000Z
DTEND:20260503T235959Z
CLASS:PUBLIC
CREATED:20260410T002102
DESCRIPTION:#### Context\n\nMembers of Vizsla have descended upon Ruhnuk in
  search of the fabled forge that created the Darksaber\, and most relevant
  to us today\; the Bas’lanar Codex. With hopes the forge could open the 
 codex\, members divided themselves through the initial three settlements t
 hat were rumored to house the forge. \n\nVizsla was quick to clear the Tra
 cyn Settlement\, as there were no signs of life in the desert ruins. Howev
 er\, there remains hope due to information discovered amongst the ruins. A
  history of the warring settlements confirmed a forge hungry for use but l
 acking the refined materials of the Mandalorian homeworld. Adapting to the
  scarcity\, the forge’s settlement developed a culture of extreme hoardi
 ng and recycling of materials. Slain enemies and conquered outposts were s
 tripped of any metals\, which contributed to the Tracyn’s documented fea
 r of the “Scrap Armorer” and their army.\n\n#### Objective\n\nIt’s i
 mportant to know what you are looking for!\nAn example of a Mandalorian Ar
 morer is included here. Complete the puzzle at the link provided in the su
 bscription box. \n\n#### Rules:\n\n7.	Puzzles must be completed in at leas
 t 50% to be eligible for participation\n8.	Puzzles must be completed in 10
 0% to be eligible for placing\n9.	Submitted screenshots MUST include numbe
 r of puzzle pieces. This puzzle should show 50 pieces\n
LAST-MODIFIED:20260411T020841
SUMMARY:[Phase 2] Mandalorian Armorer (Puzzle)
URL;VALUE=URI:https://www.darkjedibrotherhood.com/competitions/25114
END:VEVENT
END:VCALENDAR
