BEGIN:VCALENDAR
VERSION:2.0
PRODID:icalendar-ruby
CALSCALE:GREGORIAN
METHOD:PUBLISH
BEGIN:VTIMEZONE
TZID:UTC
BEGIN:STANDARD
DTSTART:19700101T000000
TZOFFSETFROM:+0000
TZOFFSETTO:+0000
TZNAME:UTC
END:STANDARD
END:VTIMEZONE
BEGIN:VEVENT
DTSTAMP:20260420T141057Z
UID:djb-competition-25121
DTSTART:20260415T000000Z
DTEND:20260515T235959Z
CLASS:PUBLIC
CREATED:20260410T140727
DESCRIPTION:#### Context\n\nToday's creative landscape is more fluid than e
 ver\, artists are no longer confined to a single form of expression. Inste
 ad\, they can explore and combine a wide range of mediums\; from digital i
 llustration\, to photography\, or traditional painting\, sculpture\, and m
 ixed media. This graphics competition wishes to celebrate that and offer o
 pportunities to add more diversity to our art community by inviting partic
 ipants to push beyond the norm and share how different mediums can be used
 .\n\n#### Objective\n\nThis competition will focus on how this month’s p
 rompt can be captured using the medium of digital illustration. I leave yo
 u to come up with how to include the concept in this medium.\n\n#### This 
 Month's Prompt\n\nTIE-Fighter\, was the signature starfighter of the Galac
 tic Empire and symbol of its space superiority. Instantly recognizable fro
 m the roar of its engines as well as its unique design\, the TIE-Fighter e
 xuded Imperial power and prestige across the galaxy\, seeing use throughou
 t the Empire's reign. \n\n#### Rules\n\n* Valid entries must follow the me
 dium and prompt shared in each sub-competition\n* Your site entries must b
 e submitted in one of the following formats: jpg\, png\, or gif\n* Note th
 e difficulty is set to regular\, so stick drawings and low effort entries 
 will not be selected for placement\n* Reminder: AI-generated entries are N
 OT allowed\n\n#### Grading\n\nAll entries will be graded using the [DB’s
  Graphics Grading Rubric](https://drive.google.com/file/d/1kvR08vv5rzg-Uh8
 6KzOm9gzDxcNeLI6c/view?usp=sharing)\n
LAST-MODIFIED:20260411T020841
SUMMARY:Digital - TIE-Fighter
URL;VALUE=URI:https://www.darkjedibrotherhood.com/competitions/25121
END:VEVENT
END:VCALENDAR
